BEGIN:VCALENDAR
VERSION:2.0
PRODID:-//École Saint-Jude - ECPv3.7//NONSGML v1.0//EN
CALSCALE:GREGORIAN
METHOD:PUBLISH
X-WR-CALNAME:École Saint-Jude
X-ORIGINAL-URL:https://stjude.cssdgs.gouv.qc.ca
X-WR-CALDESC:Events for École Saint-Jude
BEGIN:VEVENT
DTSTART;VALUE=DATE-TIME:20260420T080000
DTEND;VALUE=DATE-TIME:20260420T170000
DTSTAMP:20260419T115720
CREATED:20250929T152956
LAST-MODIFIED:20250930T105009
UID:3773-1776672000-1776704400@https://stjude.cssdgs.gouv.qc.ca
SUMMARY:Journée pédagogique - conditionnelle (2)
DESCRIPTION:
URL:https://stjude.cssdgs.gouv.qc.ca/evenement/journee-pedagogique-93/
END:VEVENT
BEGIN:VEVENT
DTSTART;VALUE=DATE-TIME:20260403T080000
DTEND;VALUE=DATE-TIME:20260406T170000
DTSTAMP:20260419T115720
CREATED:20250929T152816
LAST-MODIFIED:20250929T152816
UID:3771-1775203200-1775494800@https://stjude.cssdgs.gouv.qc.ca
SUMMARY:Congé
DESCRIPTION:
URL:https://stjude.cssdgs.gouv.qc.ca/evenement/conge-97/
END:VEVENT
BEGIN:VEVENT
DTSTART;VALUE=DATE-TIME:20260403T080000
DTEND;VALUE=DATE-TIME:20260406T170000
DTSTAMP:20260419T115720
CREATED:20250929T152816
LAST-MODIFIED:20250929T152816
UID:3771-1775203200-1775494800@https://stjude.cssdgs.gouv.qc.ca
SUMMARY:Congé
DESCRIPTION:
URL:https://stjude.cssdgs.gouv.qc.ca/evenement/conge-97/
END:VEVENT
BEGIN:VEVENT
DTSTART;VALUE=DATE-TIME:20260403T080000
DTEND;VALUE=DATE-TIME:20260406T170000
DTSTAMP:20260419T115720
CREATED:20250929T152816
LAST-MODIFIED:20250929T152816
UID:3771-1775203200-1775494800@https://stjude.cssdgs.gouv.qc.ca
SUMMARY:Congé
DESCRIPTION:
URL:https://stjude.cssdgs.gouv.qc.ca/evenement/conge-97/
END:VEVENT
BEGIN:VEVENT
DTSTART;VALUE=DATE-TIME:20260403T080000
DTEND;VALUE=DATE-TIME:20260406T170000
DTSTAMP:20260419T115720
CREATED:20250929T152816
LAST-MODIFIED:20250929T152816
UID:3771-1775203200-1775494800@https://stjude.cssdgs.gouv.qc.ca
SUMMARY:Congé
DESCRIPTION:
URL:https://stjude.cssdgs.gouv.qc.ca/evenement/conge-97/
END:VEVENT
END:VCALENDAR